BEGIN:VCALENDAR
VERSION:2.0
PRODID:icalendar-ruby
CALSCALE:GREGORIAN
METHOD:PUBLISH
BEGIN:VEVENT
DTSTAMP:20260419T185113Z
UID:35-2426989@faithgolden.org
DTSTART:20261015T000000Z
DTEND:20261015T020000Z
CLASS:PUBLIC
CREATED:20260419T101203
DESCRIPTION:Contact Tammy Lewis for information about being a part of our P
 raise Ringers.
LAST-MODIFIED:20260419T101203
LOCATION:Worship Center
SUMMARY:Praise Ringers Rehearsal
URL;VALUE=URI:https://www.faithgolden.org/events/praise-ringers-rehearsal/2
 026-10-14
END:VEVENT
END:VCALENDAR
